BEGIN:VCALENDAR
VERSION:2.0
PRODID:-//Sophicity/Tribune/Berkeley Lake, GA
BEGIN:VEVENT
DTSTAMP:20260419T165305Z
UID:46c3333a-fe36-42a7-a970-cea612c3453b-4215
DTSTART:20260522T000000Z
DTEND:20260522T004500Z
LOCATION:City Hall
CLASS:PUBLIC
SUMMARY:5/21 Council Meeting 8PM
END:VEVENT
END:VCALENDAR
